BEGIN:VCALENDAR
VERSION:2.0
PRODID:-//Журнал «КлеверЛаб» - ECPv6.3.2//NONSGML v1.0//EN
CALSCALE:GREGORIAN
METHOD:PUBLISH
X-WR-CALNAME:Журнал «КлеверЛаб»
X-ORIGINAL-URL:https://news.clever-lab.pro
X-WR-CALDESC:Мероприятия для Журнал «КлеверЛаб»
REFRESH-INTERVAL;VALUE=DURATION:PT1H
X-Robots-Tag:noindex
X-PUBLISHED-TTL:PT1H
BEGIN:VTIMEZONE
TZID:Europe/Moscow
BEGIN:STANDARD
TZOFFSETFROM:+0300
TZOFFSETTO:+0300
TZNAME:MSK
DTSTART:20230101T000000
END:STANDARD
END:VTIMEZONE
BEGIN:VEVENT
DTSTART;VALUE=DATE:20230902
DTEND;VALUE=DATE:20230903
DTSTAMP:20260425T135353
CREATED:20230531T182313Z
LAST-MODIFIED:20230902T135831Z
UID:64-1693612800-1693699199@news.clever-lab.pro
SUMMARY:День памяти иеромонаха Серафима (Роуза)
DESCRIPTION:Слушайте вместе с детьми. «Иеромонах Серафим (Роуз)» — аудиоспектакль (аудиоурок) проекта «Вопросы Веры и Фомы».
URL:https://news.clever-lab.pro/event/den-pamjati-ieromonaha-serafima-rouz/
ATTACH;FMTTYPE=image/jpeg:https://news.clever-lab.pro/wp-content/uploads/2023/05/2cvBqUwpp_s.jpg
END:VEVENT
END:VCALENDAR