BEGIN:VCALENDAR
VERSION:2.0
PRODID:-//Журнал «КлеверЛаб» - ECPv6.3.2//NONSGML v1.0//EN
CALSCALE:GREGORIAN
METHOD:PUBLISH
X-ORIGINAL-URL:https://news.clever-lab.pro
X-WR-CALDESC:Мероприятия для Журнал «КлеверЛаб»
REFRESH-INTERVAL;VALUE=DURATION:PT1H
X-Robots-Tag:noindex
X-PUBLISHED-TTL:PT1H
BEGIN:VTIMEZONE
TZID:Europe/Moscow
BEGIN:STANDARD
TZOFFSETFROM:+0300
TZOFFSETTO:+0300
TZNAME:MSK
DTSTART:20240101T000000
END:STANDARD
END:VTIMEZONE
BEGIN:VEVENT
DTSTART;VALUE=DATE:20240814
DTEND;VALUE=DATE:20240815
DTSTAMP:20260425T185829
CREATED:20230610T110221Z
LAST-MODIFIED:20230704T155459Z
UID:292-1723593600-1723679999@news.clever-lab.pro
SUMMARY:Успенский пост. Начало
DESCRIPTION:Слушайте вместе с детьми. «Успенский пост» — аудиоспектакль (аудиоурок) проекта «Вопросы Веры и Фомы».
URL:https://news.clever-lab.pro/event/uspenskij-post-nachalo/
END:VEVENT
BEGIN:VEVENT
DTSTART;VALUE=DATE:20240819
DTEND;VALUE=DATE:20240820
DTSTAMP:20260425T185829
CREATED:20230610T110324Z
LAST-MODIFIED:20230704T155524Z
UID:294-1724025600-1724111999@news.clever-lab.pro
SUMMARY:Преображение Господне
DESCRIPTION:Слушайте вместе с детьми. «Преображение Господне» — аудиоспектакль (аудиоурок) проекта «Вопросы Веры и Фомы».
URL:https://news.clever-lab.pro/event/preobrazhenie-gospodne/
END:VEVENT
BEGIN:VEVENT
DTSTART;VALUE=DATE:20240826
DTEND;VALUE=DATE:20240827
DTSTAMP:20260425T185829
CREATED:20230610T110620Z
LAST-MODIFIED:20230704T155542Z
UID:296-1724630400-1724716799@news.clever-lab.pro
SUMMARY:Икона Божией Матери "Семистрельная"
DESCRIPTION:Слушайте вместе с детьми. «Семь стрел у сердца Матери» — аудиоспектакль (аудиоурок) проекта «Вопросы Веры и Фомы».
URL:https://news.clever-lab.pro/event/ikona-bozhiej-materi-semistrelnaja/
END:VEVENT
BEGIN:VEVENT
DTSTART;VALUE=DATE:20240828
DTEND;VALUE=DATE:20240829
DTSTAMP:20260425T185829
CREATED:20230610T110706Z
LAST-MODIFIED:20230704T155604Z
UID:300-1724803200-1724889599@news.clever-lab.pro
SUMMARY:Успение Пресвятой Богородицы
DESCRIPTION:Слушайте вместе с детьми.«Успение Пресвятой Богородицы» — аудиоспектакль (аудиоурок) проекта «Вопросы Веры и Фомы».
URL:https://news.clever-lab.pro/event/uspenie-presvjatoj-bogorodicy/
END:VEVENT
END:VCALENDAR