BEGIN:VCALENDAR
VERSION:2.0
PRODID:-//Журнал «КлеверЛаб» - ECPv6.3.2//NONSGML v1.0//EN
CALSCALE:GREGORIAN
METHOD:PUBLISH
X-ORIGINAL-URL:https://news.clever-lab.pro
X-WR-CALDESC:Мероприятия для Журнал «КлеверЛаб»
REFRESH-INTERVAL;VALUE=DURATION:PT1H
X-Robots-Tag:noindex
X-PUBLISHED-TTL:PT1H
BEGIN:VTIMEZONE
TZID:Europe/Moscow
BEGIN:STANDARD
TZOFFSETFROM:+0300
TZOFFSETTO:+0300
TZNAME:MSK
DTSTART:20240101T000000
END:STANDARD
END:VTIMEZONE
BEGIN:VEVENT
DTSTART;VALUE=DATE:20240514
DTEND;VALUE=DATE:20240515
DTSTAMP:20260425T135426
CREATED:20230610T103809Z
LAST-MODIFIED:20230704T160600Z
UID:258-1715644800-1715731199@news.clever-lab.pro
SUMMARY:День памяти благоверной Тамары Грузинской\, царицы
DESCRIPTION:Слушайте вместе с детьми. «Святая царица Тамара» — аудиоспектакль (аудиоурок) проекта «Вопросы Веры и Фомы».
URL:https://news.clever-lab.pro/event/den-pamjati-blagovernoj-tamary-gruzinskoj-caricy/
END:VEVENT
BEGIN:VEVENT
DTSTART;VALUE=DATE:20240601
DTEND;VALUE=DATE:20240602
DTSTAMP:20260425T135426
CREATED:20230610T103912Z
LAST-MODIFIED:20230704T160525Z
UID:260-1717200000-1717286399@news.clever-lab.pro
SUMMARY:День памяти святого благоверного князя Дмитрия Донского
DESCRIPTION:Слушайте вместе с детьми. «Благоверный князь Дмитрий Донской» — аудиоспектакль (аудиоурок) проекта «Вопросы Веры и Фомы».
URL:https://news.clever-lab.pro/event/den-pamjati-svjatogo-blagovernogo-knjazja-dmitrija-donskogo/
END:VEVENT
BEGIN:VEVENT
DTSTART;VALUE=DATE:20240605
DTEND;VALUE=DATE:20240606
DTSTAMP:20260425T135426
CREATED:20230610T104001Z
LAST-MODIFIED:20230704T160445Z
UID:262-1717545600-1717631999@news.clever-lab.pro
SUMMARY:День памяти святой Евфросинии Полоцкой
DESCRIPTION:Слушайте вместе с детьми. «Евфросиния Полоцкая» — аудиоспектакль (аудиоурок) проекта «Вопросы Веры и Фомы».
URL:https://news.clever-lab.pro/event/den-pamjati-svjatoj-efrosinii-polockoj/
END:VEVENT
BEGIN:VEVENT
DTSTART;VALUE=DATE:20240611
DTEND;VALUE=DATE:20240612
DTSTAMP:20260425T135426
CREATED:20230610T104108Z
LAST-MODIFIED:20230704T160416Z
UID:264-1718064000-1718150399@news.clever-lab.pro
SUMMARY:День памяти святителя Луки\, архиепископа Крымского
DESCRIPTION:Слушайте вместе с детьми. «Святитель Лука» — аудиоспектакль (аудиоурок) проекта «Вопросы Веры и Фомы».
URL:https://news.clever-lab.pro/event/den-pamjati-svjatitelja-luki-arhiepiskopa-krymskogo/
END:VEVENT
BEGIN:VEVENT
DTSTART;VALUE=DATE:20240612
DTEND;VALUE=DATE:20240613
DTSTAMP:20260425T135426
CREATED:20230610T104232Z
LAST-MODIFIED:20230704T160349Z
UID:266-1718150400-1718236799@news.clever-lab.pro
SUMMARY:День памяти преподобного Давида Гареджийского
DESCRIPTION:Слушайте вместе с детьми. «Святой Давид Гареджийский» — аудиоспектакль (аудиоурок) проекта «Вопросы Веры и Фомы».
URL:https://news.clever-lab.pro/event/den-pamjati-prepodobnogo-davida-garedzhijskogo/
END:VEVENT
BEGIN:VEVENT
DTSTART;VALUE=DATE:20240614
DTEND;VALUE=DATE:20240615
DTSTAMP:20260425T135426
CREATED:20230610T104355Z
LAST-MODIFIED:20230704T160311Z
UID:268-1718323200-1718409599@news.clever-lab.pro
SUMMARY:День памяти праведного Иоанна Кронштадского
DESCRIPTION:Слушайте вместе с детьми. «Иоанн Кронштадский» — аудиоспектакль (аудиоурок) проекта «Вопросы Веры и Фомы».
URL:https://news.clever-lab.pro/event/den-pamjati-pravednogo-ioanna-kronshtadskogo/
END:VEVENT
BEGIN:VEVENT
DTSTART;VALUE=DATE:20240622
DTEND;VALUE=DATE:20240623
DTSTAMP:20260425T135426
CREATED:20230610T104456Z
LAST-MODIFIED:20230704T160242Z
UID:270-1719014400-1719100799@news.clever-lab.pro
SUMMARY:День памяти святого Кирилла Белозерского
DESCRIPTION:Слушайте вместе с детьми. «Кирилл Белозерский» — аудиоспектакль (аудиоурок) проекта «Вопросы Веры и Фомы».
URL:https://news.clever-lab.pro/event/den-pamjati-svjatogo-kirilla-belozerskogo/
END:VEVENT
BEGIN:VEVENT
DTSTART;VALUE=DATE:20240702
DTEND;VALUE=DATE:20240703
DTSTAMP:20260425T135426
CREATED:20230610T104627Z
LAST-MODIFIED:20230704T160122Z
UID:272-1719878400-1719964799@news.clever-lab.pro
SUMMARY:День памяти святителя Иоанна\, архиепископа Шанхайского
DESCRIPTION:Слушайте вместе с детьми. «Иоанн Шанхайский» — аудиоспектакль (аудиоурок) проекта «Вопросы Веры и Фомы».
URL:https://news.clever-lab.pro/event/den-pamjati-svjatitelja-ioanna-arhiepiskopa-shanhajskogo/
END:VEVENT
BEGIN:VEVENT
DTSTART;VALUE=DATE:20240707
DTEND;VALUE=DATE:20240708
DTSTAMP:20260425T135426
CREATED:20230610T104716Z
LAST-MODIFIED:20230704T160043Z
UID:274-1720310400-1720396799@news.clever-lab.pro
SUMMARY:Рождество Иоанна Предтечи
DESCRIPTION:Слушайте вместе с детьми. «Пророки Иоанн Креститель и Илия» — аудиоспектакль (аудиоурок) проекта «Вопросы Веры и Фомы».
URL:https://news.clever-lab.pro/event/rozhdestvo-ioanna-predtechi/
END:VEVENT
BEGIN:VEVENT
DTSTART;VALUE=DATE:20240708
DTEND;VALUE=DATE:20240709
DTSTAMP:20260425T135426
CREATED:20230610T104931Z
LAST-MODIFIED:20230704T160012Z
UID:276-1720396800-1720483199@news.clever-lab.pro
SUMMARY:День памяти святых благоверня Петра и Февронии Муромских
DESCRIPTION:Слушайте вместе с детьми. «Святые Петр и Феврония» — аудиоспектакль (аудиоурок) проекта «Вопросы Веры и Фомы».
URL:https://news.clever-lab.pro/event/den-pamjati-svjatyh-blagovernja-petra-i-fevronii-muromskih/
END:VEVENT
BEGIN:VEVENT
DTSTART;VALUE=DATE:20240712
DTEND;VALUE=DATE:20240713
DTSTAMP:20260425T135426
CREATED:20230610T105152Z
LAST-MODIFIED:20230704T155947Z
UID:278-1720742400-1720828799@news.clever-lab.pro
SUMMARY:День святых первоверховных апостолов Петра и Павла
DESCRIPTION:Слушайте вместе с детьми. «Апостолы Петр и Павел» — аудиоспектакль (аудиоурок) проекта «Вопросы Веры и Фомы».
URL:https://news.clever-lab.pro/event/den-svjatyh-pervoverhovnyh-apostolov-petra-i-pavla/
END:VEVENT
BEGIN:VEVENT
DTSTART;VALUE=DATE:20240718
DTEND;VALUE=DATE:20240719
DTSTAMP:20260425T135426
CREATED:20230610T105424Z
LAST-MODIFIED:20230704T155915Z
UID:280-1721260800-1721347199@news.clever-lab.pro
SUMMARY:День памяти святых царственных мучеников
DESCRIPTION:Слушайте вместе с детьми. «Святая царская семья (ч.1). О любви«\, «Святая царская семья (ч.2). О подвиге» — аудиоспектакль (аудиоурок) проекта «Вопросы Веры и Фомы».
URL:https://news.clever-lab.pro/event/den-pamjati-svjatyh-carstvennyh-muchenikov/
END:VEVENT
BEGIN:VEVENT
DTSTART;VALUE=DATE:20240720
DTEND;VALUE=DATE:20240721
DTSTAMP:20260425T135426
CREATED:20230610T105603Z
LAST-MODIFIED:20230704T155820Z
UID:282-1721433600-1721519999@news.clever-lab.pro
SUMMARY:День памяти мученицы Марии Парижской
DESCRIPTION:Слушайте вместе с детьми. «Мать Мария» — аудиоспектакль (аудиоурок) проекта «Вопросы Веры и Фомы».
URL:https://news.clever-lab.pro/event/den-pamjati-muchenicy-marii-parizhskoj/
END:VEVENT
BEGIN:VEVENT
DTSTART;VALUE=DATE:20240726
DTEND;VALUE=DATE:20240727
DTSTAMP:20260425T135426
CREATED:20230610T105713Z
LAST-MODIFIED:20230704T155747Z
UID:284-1721952000-1722038399@news.clever-lab.pro
SUMMARY:Собор Архангела Гавриила
DESCRIPTION:Слушайте вместе с детьми. «Архангелы» — аудиоспектакль (аудиоурок) проекта «Вопросы Веры и Фомы».
URL:https://news.clever-lab.pro/event/sobor-arhangela-gavriila/
END:VEVENT
BEGIN:VEVENT
DTSTART;VALUE=DATE:20240728
DTEND;VALUE=DATE:20240729
DTSTAMP:20260425T135426
CREATED:20230610T105808Z
LAST-MODIFIED:20230704T155713Z
UID:286-1722124800-1722211199@news.clever-lab.pro
SUMMARY:День памяти святого равноапостольного князя Владимира\, Крещение Руси
DESCRIPTION:Слушайте вместе с детьми. «Крещение Руси» — аудиоспектакль (аудиоурок) проекта «Вопросы Веры и Фомы».
URL:https://news.clever-lab.pro/event/den-pamjati-svjatogo-ravnoapostolnogo-knjazja-vladimira-kreshhenie-rusi/
END:VEVENT
BEGIN:VEVENT
DTSTART;VALUE=DATE:20240801
DTEND;VALUE=DATE:20240802
DTSTAMP:20260425T135426
CREATED:20230610T105900Z
LAST-MODIFIED:20230704T155635Z
UID:288-1722470400-1722556799@news.clever-lab.pro
SUMMARY:День памяти преподобного Серафима Саровского
DESCRIPTION:Слушайте вместе с детьми. «Преподобный Серафим Саровский» — аудиоспектакль (аудиоурок) проекта «Вопросы Веры и Фомы».
URL:https://news.clever-lab.pro/event/den-pamjati-prepodobnogo-serafima-sarovskogo/
END:VEVENT
BEGIN:VEVENT
DTSTART;VALUE=DATE:20240809
DTEND;VALUE=DATE:20240810
DTSTAMP:20260425T135426
CREATED:20230610T110113Z
LAST-MODIFIED:20230704T155503Z
UID:290-1723161600-1723247999@news.clever-lab.pro
SUMMARY:День памяти великомученика и целителя Пентелеимона
DESCRIPTION:Слушайте вместе с детьми. «Великомученик и целитель Пантелеимон» — аудиоспектакль (аудиоурок) проекта «Вопросы Веры и Фомы».
URL:https://news.clever-lab.pro/event/den-pamjati-velikomuchenika-i-celitelja-penteleimona/
END:VEVENT
BEGIN:VEVENT
DTSTART;VALUE=DATE:20240814
DTEND;VALUE=DATE:20240815
DTSTAMP:20260425T135426
CREATED:20230610T110221Z
LAST-MODIFIED:20230704T155459Z
UID:292-1723593600-1723679999@news.clever-lab.pro
SUMMARY:Успенский пост. Начало
DESCRIPTION:Слушайте вместе с детьми. «Успенский пост» — аудиоспектакль (аудиоурок) проекта «Вопросы Веры и Фомы».
URL:https://news.clever-lab.pro/event/uspenskij-post-nachalo/
END:VEVENT
BEGIN:VEVENT
DTSTART;VALUE=DATE:20240819
DTEND;VALUE=DATE:20240820
DTSTAMP:20260425T135426
CREATED:20230610T110324Z
LAST-MODIFIED:20230704T155524Z
UID:294-1724025600-1724111999@news.clever-lab.pro
SUMMARY:Преображение Господне
DESCRIPTION:Слушайте вместе с детьми. «Преображение Господне» — аудиоспектакль (аудиоурок) проекта «Вопросы Веры и Фомы».
URL:https://news.clever-lab.pro/event/preobrazhenie-gospodne/
END:VEVENT
BEGIN:VEVENT
DTSTART;VALUE=DATE:20240826
DTEND;VALUE=DATE:20240827
DTSTAMP:20260425T135426
CREATED:20230610T110620Z
LAST-MODIFIED:20230704T155542Z
UID:296-1724630400-1724716799@news.clever-lab.pro
SUMMARY:Икона Божией Матери "Семистрельная"
DESCRIPTION:Слушайте вместе с детьми. «Семь стрел у сердца Матери» — аудиоспектакль (аудиоурок) проекта «Вопросы Веры и Фомы».
URL:https://news.clever-lab.pro/event/ikona-bozhiej-materi-semistrelnaja/
END:VEVENT
BEGIN:VEVENT
DTSTART;VALUE=DATE:20240828
DTEND;VALUE=DATE:20240829
DTSTAMP:20260425T135426
CREATED:20230610T110706Z
LAST-MODIFIED:20230704T155604Z
UID:300-1724803200-1724889599@news.clever-lab.pro
SUMMARY:Успение Пресвятой Богородицы
DESCRIPTION:Слушайте вместе с детьми.«Успение Пресвятой Богородицы» — аудиоспектакль (аудиоурок) проекта «Вопросы Веры и Фомы».
URL:https://news.clever-lab.pro/event/uspenie-presvjatoj-bogorodicy/
END:VEVENT
END:VCALENDAR