BEGIN:VCALENDAR
VERSION:2.0
PRODID:-//Журнал «КлеверЛаб» - ECPv6.3.2//NONSGML v1.0//EN
CALSCALE:GREGORIAN
METHOD:PUBLISH
X-WR-CALNAME:Журнал «КлеверЛаб»
X-ORIGINAL-URL:https://news.clever-lab.pro
X-WR-CALDESC:Мероприятия для Журнал «КлеверЛаб»
REFRESH-INTERVAL;VALUE=DURATION:PT1H
X-Robots-Tag:noindex
X-PUBLISHED-TTL:PT1H
BEGIN:VTIMEZONE
TZID:Europe/Moscow
BEGIN:STANDARD
TZOFFSETFROM:+0300
TZOFFSETTO:+0300
TZNAME:MSK
DTSTART:20240101T000000
END:STANDARD
END:VTIMEZONE
BEGIN:VEVENT
DTSTART;VALUE=DATE:20240205
DTEND;VALUE=DATE:20240206
DTSTAMP:20260425T031435
CREATED:20230610T092245Z
LAST-MODIFIED:20230705T084818Z
UID:201-1707091200-1707177599@news.clever-lab.pro
SUMMARY:Урок 20. Православная молитва
DESCRIPTION:Слушайте вместе с детьми. «Какие бывают молитвы?«\, «Кому мы молимся?«\, «Как нужно молиться?«\, «Почему мы молимся Богородице?» — аудиоспектакль (аудиоурок) проекта «Вопросы Веры и Фомы». \nЧитайте перед уроком. Статья для учителя\, раскрывающая тему урока. \nВыбирайте лучший материал. Дополнительный материал к уроку (видео\, изображения\, цитаты и фрагменты литературных произведений).  \nПроводите интересные уроки. Дополнительные задания (интерактивные и для распечатки) для учеников\, которые можно использовать на уроке.
URL:https://news.clever-lab.pro/event/urok-20-pravoslavnaja-molitva/
END:VEVENT
BEGIN:VEVENT
DTSTART;VALUE=DATE:20240206
DTEND;VALUE=DATE:20240207
DTSTAMP:20260425T031435
CREATED:20230610T092404Z
LAST-MODIFIED:20230704T161547Z
UID:204-1707177600-1707263999@news.clever-lab.pro
SUMMARY:День памяти блаженной Ксении Петербургской
DESCRIPTION:Слушайте вместе с детьми. «Блаженная Ксения Петербургская» — аудиоспектакль (аудиоурок) проекта «Вопросы Веры и Фомы».
URL:https://news.clever-lab.pro/event/den-pamjati-blazhennoj-ksenii-peterburgskoj/
END:VEVENT
BEGIN:VEVENT
DTSTART;VALUE=DATE:20240212
DTEND;VALUE=DATE:20240213
DTSTAMP:20260425T031435
CREATED:20230610T092736Z
LAST-MODIFIED:20230705T085053Z
UID:206-1707696000-1707782399@news.clever-lab.pro
SUMMARY:Урок 21. Церковь
DESCRIPTION:Слушайте вместе с детьми. «Зачем украшают храм?» — аудиоспектакль (аудиоурок) проекта «Вопросы Веры и Фомы». \nЧитайте перед уроком. Статья для учителя\, раскрывающая тему урока. \nВыбирайте лучший материал. Дополнительный материал к уроку (видео\, изображения\, цитаты и фрагменты литературных произведений).  \nПроводите интересные уроки. Дополнительные задания (интерактивные и для распечатки) для учеников\, которые можно использовать на уроке.
URL:https://news.clever-lab.pro/event/urok-21-cerkov/
END:VEVENT
BEGIN:VEVENT
DTSTART;VALUE=DATE:20240215
DTEND;VALUE=DATE:20240216
DTSTAMP:20260425T031435
CREATED:20230610T092828Z
LAST-MODIFIED:20230704T161514Z
UID:208-1707955200-1708041599@news.clever-lab.pro
SUMMARY:Сретение Господне
DESCRIPTION:Слушайте вместе с детьми. «Сретение Господне» — аудиоспектакль (аудиоурок) проекта «Вопросы Веры и Фомы».
URL:https://news.clever-lab.pro/event/sretenie-gospodne/
END:VEVENT
BEGIN:VEVENT
DTSTART;VALUE=DATE:20240216
DTEND;VALUE=DATE:20240217
DTSTAMP:20260425T031435
CREATED:20230610T092926Z
LAST-MODIFIED:20230704T161447Z
UID:210-1708041600-1708127999@news.clever-lab.pro
SUMMARY:День памяти святителя Николая Японского
DESCRIPTION:Слушайте вместе с детьми. «Святой Николай Японский» — аудиоспектакль (аудиоурок) проекта «Вопросы Веры и Фомы».
URL:https://news.clever-lab.pro/event/den-pamjati-svjatitelja-nikolaja-japonskogo/
END:VEVENT
BEGIN:VEVENT
DTSTART;VALUE=DATE:20240219
DTEND;VALUE=DATE:20240220
DTSTAMP:20260425T031435
CREATED:20230610T093120Z
LAST-MODIFIED:20230705T085355Z
UID:212-1708300800-1708387199@news.clever-lab.pro
SUMMARY:Урок 22. Таинства Церкви
DESCRIPTION:Читайте перед уроком. Статья для учителя\, раскрывающая тему урока.  \nВыбирайте лучший материал. Дополнительный материал к уроку (видео\, изображения\, цитаты и фрагменты литературных произведений).  \nПроводите интересные уроки. Дополнительные задания (интерактивные и для распечатки) для учеников\, которые можно использовать на уроке.
URL:https://news.clever-lab.pro/event/urok-22-tainstva-cerkvi/
END:VEVENT
BEGIN:VEVENT
DTSTART;VALUE=DATE:20240220
DTEND;VALUE=DATE:20240221
DTSTAMP:20260425T031435
CREATED:20230610T093305Z
LAST-MODIFIED:20230704T161416Z
UID:214-1708387200-1708473599@news.clever-lab.pro
SUMMARY:День памяти благоверного князя Ярослава Мудрого
DESCRIPTION:Слушайте вместе с детьми. «Ярослав Мудрый и принцесса Ингигерда» — аудиоспектакль (аудиоурок) проекта «Вопросы Веры и Фомы».
URL:https://news.clever-lab.pro/event/den-pamjati-blagovernogo-knjazja-jaroslava-mudrogo/
END:VEVENT
BEGIN:VEVENT
DTSTART;VALUE=DATE:20240225
DTEND;VALUE=DATE:20240226
DTSTAMP:20260425T031435
CREATED:20230610T093513Z
LAST-MODIFIED:20230704T161343Z
UID:216-1708819200-1708905599@news.clever-lab.pro
SUMMARY:День памяти святителя Алексия\, митрополита Московского и всея Руси
DESCRIPTION:Слушайте вместе с детьми. «Святитель Алексий\, митрополит Алексий и всея Руси» — аудиоспектакль (аудиоурок) проекта «Вопросы Веры и Фомы».
URL:https://news.clever-lab.pro/event/den-pamjati-svjatitelja-aleksija-mitropolita-moskovskogo-i-vseja-rusi/
END:VEVENT
BEGIN:VEVENT
DTSTART;VALUE=DATE:20240225
DTEND;VALUE=DATE:20240226
DTSTAMP:20260425T031435
CREATED:20230610T093651Z
LAST-MODIFIED:20230704T161312Z
UID:218-1708819200-1708905599@news.clever-lab.pro
SUMMARY:Иверская икона Божией Матери
DESCRIPTION:Слушайте вместе с детьми. «Иверская икона Божией Матери» — аудиоспектакль (аудиоурок) проекта «Вопросы Веры и Фомы».
URL:https://news.clever-lab.pro/event/218/
END:VEVENT
BEGIN:VEVENT
DTSTART;VALUE=DATE:20240226
DTEND;VALUE=DATE:20240227
DTSTAMP:20260425T031435
CREATED:20230610T094147Z
LAST-MODIFIED:20230705T085827Z
UID:220-1708905600-1708991999@news.clever-lab.pro
SUMMARY:Урок 23. Покаяние
DESCRIPTION:Слушайте вместе с детьми. «Что такое покаяние?» — аудиоспектакль (аудиоурок) проекта «Вопросы Веры и Фомы». \nЧитайте перед уроком. Статья для учителя\, раскрывающая тему урока.  \nВыбирайте лучший материал. Дополнительный материал к уроку (видео\, изображения\, цитаты и фрагменты литературных произведений).  \nПроводите интересные уроки. Дополнительные задания (интерактивные и для распечатки) для учеников\, которые можно использовать на уроке.
URL:https://news.clever-lab.pro/event/urok-22-pokajanie/
END:VEVENT
END:VCALENDAR