BEGIN:VCALENDAR
VERSION:2.0
PRODID:-//Журнал «КлеверЛаб» - ECPv6.3.2//NONSGML v1.0//EN
CALSCALE:GREGORIAN
METHOD:PUBLISH
X-ORIGINAL-URL:https://news.clever-lab.pro
X-WR-CALDESC:Мероприятия для Журнал «КлеверЛаб»
REFRESH-INTERVAL;VALUE=DURATION:PT1H
X-Robots-Tag:noindex
X-PUBLISHED-TTL:PT1H
BEGIN:VTIMEZONE
TZID:Europe/Moscow
BEGIN:STANDARD
TZOFFSETFROM:+0300
TZOFFSETTO:+0300
TZNAME:MSK
DTSTART:20240101T000000
END:STANDARD
END:VTIMEZONE
BEGIN:VEVENT
DTSTART;VALUE=DATE:20240225
DTEND;VALUE=DATE:20240226
DTSTAMP:20260425T045908
CREATED:20230610T093513Z
LAST-MODIFIED:20230704T161343Z
UID:216-1708819200-1708905599@news.clever-lab.pro
SUMMARY:День памяти святителя Алексия\, митрополита Московского и всея Руси
DESCRIPTION:Слушайте вместе с детьми. «Святитель Алексий\, митрополит Алексий и всея Руси» — аудиоспектакль (аудиоурок) проекта «Вопросы Веры и Фомы».
URL:https://news.clever-lab.pro/event/den-pamjati-svjatitelja-aleksija-mitropolita-moskovskogo-i-vseja-rusi/
END:VEVENT
BEGIN:VEVENT
DTSTART;VALUE=DATE:20240225
DTEND;VALUE=DATE:20240226
DTSTAMP:20260425T045908
CREATED:20230610T093651Z
LAST-MODIFIED:20230704T161312Z
UID:218-1708819200-1708905599@news.clever-lab.pro
SUMMARY:Иверская икона Божией Матери
DESCRIPTION:Слушайте вместе с детьми. «Иверская икона Божией Матери» — аудиоспектакль (аудиоурок) проекта «Вопросы Веры и Фомы».
URL:https://news.clever-lab.pro/event/218/
END:VEVENT
END:VCALENDAR