BEGIN:VCALENDAR
VERSION:2.0
PRODID:-//Журнал «КлеверЛаб» - ECPv6.3.2//NONSGML v1.0//EN
CALSCALE:GREGORIAN
METHOD:PUBLISH
X-ORIGINAL-URL:https://news.clever-lab.pro
X-WR-CALDESC:Мероприятия для Журнал «КлеверЛаб»
REFRESH-INTERVAL;VALUE=DURATION:PT1H
X-Robots-Tag:noindex
X-PUBLISHED-TTL:PT1H
BEGIN:VTIMEZONE
TZID:Europe/Moscow
BEGIN:STANDARD
TZOFFSETFROM:+0300
TZOFFSETTO:+0300
TZNAME:MSK
DTSTART:20240101T000000
END:STANDARD
END:VTIMEZONE
BEGIN:VEVENT
DTSTART;VALUE=DATE:20240122
DTEND;VALUE=DATE:20240123
DTSTAMP:20260425T064617
CREATED:20230610T090002Z
LAST-MODIFIED:20230705T083832Z
UID:190-1705881600-1705967999@news.clever-lab.pro
SUMMARY:Урок 18. Икона
DESCRIPTION:Слушайте вместе с детьми. «Как появились первые иконы?«\, «Как устроен иконостас?«\, «Какие бывают иконы Богородицы?«\, «Икона Божией Матери «Державная»«\, «Загадочная икона «Троеручица»«\, «Владимирская икона Божией Матери«\, «Икона Божией Матери «Всех скорбящих Радость»» — аудиоспектакль (аудиоурок) проекта «Вопросы Веры и Фомы». \nЧитайте перед уроком. Статья для учителя\, раскрывающая тему урока. \nВыбирайте лучший материал. Дополнительный материал к уроку (видео\, изображения\, цитаты и фрагменты литературных произведений).  \nПроводите интересные уроки. Дополнительные задания (интерактивные и для распечатки) для учеников\, которые можно использовать на уроке. \nСмотрите на уроке вместе с детьми. Серия\, посвященная теме урока\, образовательного сериала «Девочка и робот»\, который был снят специально по учебнику ОПК под редакцией О.Ю.Васильевой.
URL:https://news.clever-lab.pro/event/urok-18-ikona/
END:VEVENT
END:VCALENDAR