BEGIN:VCALENDAR
VERSION:2.0
PRODID:-//Журнал «КлеверЛаб» - ECPv6.3.2//NONSGML v1.0//EN
CALSCALE:GREGORIAN
METHOD:PUBLISH
X-ORIGINAL-URL:https://news.clever-lab.pro
X-WR-CALDESC:Мероприятия для Журнал «КлеверЛаб»
REFRESH-INTERVAL;VALUE=DURATION:PT1H
X-Robots-Tag:noindex
X-PUBLISHED-TTL:PT1H
BEGIN:VTIMEZONE
TZID:Europe/Moscow
BEGIN:STANDARD
TZOFFSETFROM:+0300
TZOFFSETTO:+0300
TZNAME:MSK
DTSTART:20240101T000000
END:STANDARD
END:VTIMEZONE
BEGIN:VEVENT
DTSTART;VALUE=DATE:20240108
DTEND;VALUE=DATE:20240109
DTSTAMP:20260425T064619
CREATED:20230607T134518Z
LAST-MODIFIED:20230704T173925Z
UID:179-1704672000-1704758399@news.clever-lab.pro
SUMMARY:Урок 15. Пасха
DESCRIPTION:Слушайте вместе с детьми. «Пасха Христова«\, «Страстная неделя» — аудиоспектакль (аудиоурок) проекта «Вопросы Веры и Фомы». \nЧитайте перед уроком. Статья для учителя\, раскрывающая тему урока. \nВыбирайте лучший материал. Дополнительный материал к уроку (видео\, изображения\, цитаты и фрагменты литературных произведений).  \nПрактика Проводите интересные уроки. Дополнительные задания (интерактивные и для распечатки) для учеников\, которые можно использовать на уроке.
URL:https://news.clever-lab.pro/event/urok-15-pasha/
END:VEVENT
END:VCALENDAR