BEGIN:VCALENDAR
VERSION:2.0
PRODID:-//Журнал «КлеверЛаб» - ECPv6.3.2//NONSGML v1.0//EN
CALSCALE:GREGORIAN
METHOD:PUBLISH
X-WR-CALNAME:Журнал «КлеверЛаб»
X-ORIGINAL-URL:https://news.clever-lab.pro
X-WR-CALDESC:Мероприятия для Журнал «КлеверЛаб»
REFRESH-INTERVAL;VALUE=DURATION:PT1H
X-Robots-Tag:noindex
X-PUBLISHED-TTL:PT1H
BEGIN:VTIMEZONE
TZID:Europe/Moscow
BEGIN:STANDARD
TZOFFSETFROM:+0300
TZOFFSETTO:+0300
TZNAME:MSK
DTSTART:20230101T000000
END:STANDARD
END:VTIMEZONE
BEGIN:VEVENT
DTSTART;VALUE=DATE:20231002
DTEND;VALUE=DATE:20231003
DTSTAMP:20260425T134651
CREATED:20230606T143013Z
LAST-MODIFIED:20230704T163459Z
UID:96-1696204800-1696291199@news.clever-lab.pro
SUMMARY:Преставление апостола и евангелиста Иоанна Богослова
DESCRIPTION:Слушайте вместе с детьми. «Апостол Иоанн Богослов» — аудиоспектакль (аудиоурок) проекта «Вопросы Веры и Фомы».
URL:https://news.clever-lab.pro/event/prestavlenie-apostola-i-evangelista-ioanna-bogoslova/
END:VEVENT
BEGIN:VEVENT
DTSTART;VALUE=DATE:20231002
DTEND;VALUE=DATE:20231003
DTSTAMP:20260425T134651
CREATED:20230606T143521Z
LAST-MODIFIED:20230704T170023Z
UID:99-1696204800-1696291199@news.clever-lab.pro
SUMMARY:Урок 5. Библия
DESCRIPTION:Слушайте вместе с детьми. «Библия — необыкновенная книга«\, «Из чего состоит Библия?» — аудиоспектакль (аудиоурок) проекта «Вопросы Веры и Фомы». \nЧитайте перед уроком. Статья для учителя\, раскрывающая тему урока. \nВыбирайте лучший материал. Дополнительный материал к уроку (видео\, изображения\, цитаты и фрагменты литературных произведений). \nПроводите интересные уроки. Дополнительные задания (интерактивные и для распечатки) для учеников\, которые можно использовать на уроке. \nСмотрите перед уроком. Видеосоветы опытных педагогов и методические находки для учителя по теме.
URL:https://news.clever-lab.pro/event/urok-5-biblija/
END:VEVENT
END:VCALENDAR