BEGIN:VCALENDAR
VERSION:2.0
PRODID:-//Журнал «КлеверЛаб» - ECPv6.3.2//NONSGML v1.0//EN
CALSCALE:GREGORIAN
METHOD:PUBLISH
X-ORIGINAL-URL:https://news.clever-lab.pro
X-WR-CALDESC:Мероприятия для Журнал «КлеверЛаб»
REFRESH-INTERVAL;VALUE=DURATION:PT1H
X-Robots-Tag:noindex
X-PUBLISHED-TTL:PT1H
BEGIN:VTIMEZONE
TZID:Europe/Moscow
BEGIN:STANDARD
TZOFFSETFROM:+0300
TZOFFSETTO:+0300
TZNAME:MSK
DTSTART:20230101T000000
END:STANDARD
END:VTIMEZONE
BEGIN:VEVENT
DTSTART;VALUE=DATE:20230918
DTEND;VALUE=DATE:20230919
DTSTAMP:20260425T153241
CREATED:20230606T141023Z
LAST-MODIFIED:20230704T165006Z
UID:83-1694995200-1695081599@news.clever-lab.pro
SUMMARY:Урок 3. Как христианство пришло на Русь?
DESCRIPTION:Слушайте вместе с детьми. «Крещение Руси» — аудиоспектакль (аудиоурок) проекта «Вопросы Веры и Фомы». \nЧитайте перед уроком. Статья для учителя\, раскрывающая тему урока. \nВыбирайте лучший материал. Дополнительный материал к уроку (видео\, изображения\, цитаты и фрагменты литературных произведений). \nПроводите интересные уроки. Дополнительные задания (интерактивные и для распечатки) для учеников\, которые можно использовать на уроке. \nСмотрите перед уроком. Видеосоветы опытных педагогов и методические находки для учителя по теме.
URL:https://news.clever-lab.pro/event/urok-3-kak-hristianstvo-prishlo-na-rus/
END:VEVENT
END:VCALENDAR